BEGIN:VCALENDAR
VERSION:2.0
PRODID:-// - ECPv6.2.3.2//NONSGML v1.0//EN
CALSCALE:GREGORIAN
METHOD:PUBLISH
X-ORIGINAL-URL:https://chiaramilan.net
X-WR-CALDESC:Events for 
REFRESH-INTERVAL;VALUE=DURATION:PT1H
X-Robots-Tag:noindex
X-PUBLISHED-TTL:PT1H
BEGIN:VTIMEZONE
TZID:UTC
BEGIN:STANDARD
TZOFFSETFROM:+0000
TZOFFSETTO:+0000
TZNAME:UTC
DTSTART:20170101T000000
END:STANDARD
END:VTIMEZONE
BEGIN:VEVENT
DTSTART;TZID=UTC:20170624T080000
DTEND;TZID=UTC:20170624T170000
DTSTAMP:20260422T014825
CREATED:20170502T190341Z
LAST-MODIFIED:20170503T213437Z
UID:371-1498291200-1498323600@chiaramilan.net
SUMMARY:IPSA colloquium: Democratization and Constitutional Design in Divided Societies
DESCRIPTION:I will present my paper “Mobilizing beyond ethnicity in divided societies: the case of social mobilizations in Bosnia Herzegovina” in the panel entitled “Non-Ethnic Political Identity and Mobilisation in Power-Sharing Frameworks” in the framework of the 2017 IPSA colloquium hosted at the University of Cyprus\, Nicosia Campus
URL:https://chiaramilan.net/event/cipro-conference/
LOCATION:University of Cyprus \, Nicosia Campus\, Cyprus
END:VEVENT
BEGIN:VEVENT
DTSTART;VALUE=DATE:20170529
DTEND;VALUE=DATE:20170530
DTSTAMP:20260422T014825
CREATED:20170502T190241Z
LAST-MODIFIED:20170503T211839Z
UID:367-1496016000-1496102399@chiaramilan.net
SUMMARY:"Us vs. Them: Populism\, the Refugee Other and the Re-consideration of National Identity in Central and Eastern Europe"
DESCRIPTION:I will present a paper entitled “Refugees like us: Solidarity in transition along the Western Balkans route”\nat the conference hosted by the Center for European Neighborhood Studies (CENS) and organized by the Central European University and Friedrich-Ebert-Stiftung in Budapest
URL:https://chiaramilan.net/event/budapest-conference/
LOCATION:Central European University\, Budapest\, Hungary
END:VEVENT
BEGIN:VEVENT
DTSTART;TZID=UTC:20170519T080000
DTEND;TZID=UTC:20170520T170000
DTSTAMP:20260422T014825
CREATED:20170503T214059Z
LAST-MODIFIED:20170503T214059Z
UID:430-1495180800-1495299600@chiaramilan.net
SUMMARY:2nd Annual Conference of the Western Balkans Migration Network “Migration in the Western Balkans: What do we know?”
DESCRIPTION:I will be in Sarajevo to present the paper “Refugees and forced migrants in the Western Balkans: Civic response to the refugee crisis in the Yugoslav successor states”\nin the framework of the Second Annual Conference of the Western Balkans Migration Network hosted at the International Burch University of Sarajevo\, in collaboration with the Central European Initiative (CEI)
URL:https://chiaramilan.net/event/2nd-annual-conference-of-the-western-balkans-migration-network-migration-in-the-western-balkans-what-do-we-know/
LOCATION:International Burch University\, Sarajevo\, Bosnia And Herzegowina
END:VEVENT
END:VCALENDAR