BEGIN:VCALENDAR
VERSION:2.0
PRODID:-// - ECPv6.2.3.2//NONSGML v1.0//EN
CALSCALE:GREGORIAN
METHOD:PUBLISH
X-ORIGINAL-URL:https://chiaramilan.net
X-WR-CALDESC:Events for 
REFRESH-INTERVAL;VALUE=DURATION:PT1H
X-Robots-Tag:noindex
X-PUBLISHED-TTL:PT1H
BEGIN:VTIMEZONE
TZID:UTC
BEGIN:STANDARD
TZOFFSETFROM:+0000
TZOFFSETTO:+0000
TZNAME:UTC
DTSTART:20170101T000000
END:STANDARD
END:VTIMEZONE
BEGIN:VEVENT
DTSTART;TZID=UTC:20170624T080000
DTEND;TZID=UTC:20170624T170000
DTSTAMP:20260423T230344
CREATED:20170502T190341Z
LAST-MODIFIED:20170503T213437Z
UID:371-1498291200-1498323600@chiaramilan.net
SUMMARY:IPSA colloquium: Democratization and Constitutional Design in Divided Societies
DESCRIPTION:I will present my paper “Mobilizing beyond ethnicity in divided societies: the case of social mobilizations in Bosnia Herzegovina” in the panel entitled “Non-Ethnic Political Identity and Mobilisation in Power-Sharing Frameworks” in the framework of the 2017 IPSA colloquium hosted at the University of Cyprus\, Nicosia Campus
URL:https://chiaramilan.net/event/cipro-conference/
LOCATION:University of Cyprus \, Nicosia Campus\, Cyprus
END:VEVENT
END:VCALENDAR